BEGIN:VCALENDAR
VERSION:2.0
PRODID:-//Quartiertreff Thunplatz - ECPv6.15.20//NONSGML v1.0//EN
CALSCALE:GREGORIAN
METHOD:PUBLISH
X-WR-CALNAME:Quartiertreff Thunplatz
X-ORIGINAL-URL:https://qtt.ch
X-WR-CALDESC:Veranstaltungen für Quartiertreff Thunplatz
REFRESH-INTERVAL;VALUE=DURATION:PT1H
X-Robots-Tag:noindex
X-PUBLISHED-TTL:PT1H
BEGIN:VTIMEZONE
TZID:Europe/Zurich
BEGIN:DAYLIGHT
TZOFFSETFROM:+0100
TZOFFSETTO:+0200
TZNAME:CEST
DTSTART:20250330T010000
END:DAYLIGHT
BEGIN:STANDARD
TZOFFSETFROM:+0200
TZOFFSETTO:+0100
TZNAME:CET
DTSTART:20251026T010000
END:STANDARD
BEGIN:DAYLIGHT
TZOFFSETFROM:+0100
TZOFFSETTO:+0200
TZNAME:CEST
DTSTART:20260329T010000
END:DAYLIGHT
BEGIN:STANDARD
TZOFFSETFROM:+0200
TZOFFSETTO:+0100
TZNAME:CET
DTSTART:20261025T010000
END:STANDARD
BEGIN:DAYLIGHT
TZOFFSETFROM:+0100
TZOFFSETTO:+0200
TZNAME:CEST
DTSTART:20270328T010000
END:DAYLIGHT
BEGIN:STANDARD
TZOFFSETFROM:+0200
TZOFFSETTO:+0100
TZNAME:CET
DTSTART:20271031T010000
END:STANDARD
END:VTIMEZONE
BEGIN:VEVENT
DTSTART;TZID=Europe/Zurich:20260423T173000
DTEND;TZID=Europe/Zurich:20260423T193000
DTSTAMP:20260423T135544
CREATED:20260214T143241Z
LAST-MODIFIED:20260214T152934Z
UID:1772-1776965400-1776972600@qtt.ch
SUMMARY:KUBB
DESCRIPTION:Für Anfänger:innen und Kenner:innen\nnur bei trockenem Wetter
URL:https://qtt.ch/event/kubb/
LOCATION:QTT Platz
CATEGORIES:Jahresprogramm
ATTACH;FMTTYPE=image/png:https://qtt.ch/wp-content/uploads/2024/03/kubb.png
END:VEVENT
BEGIN:VEVENT
DTSTART;TZID=Europe/Zurich:20260509T160000
DTEND;TZID=Europe/Zurich:20260509T180000
DTSTAMP:20260423T135544
CREATED:20260214T143755Z
LAST-MODIFIED:20260214T143755Z
UID:1782-1778342400-1778349600@qtt.ch
SUMMARY:GP Snack Bar
DESCRIPTION:für die Zuschauer:innen vom GP Bern
URL:https://qtt.ch/event/gp-snack-bar/
LOCATION:QTT Platz
CATEGORIES:Jahresprogramm
ATTACH;FMTTYPE=image/png:https://qtt.ch/wp-content/uploads/2024/03/gp_4c-01.png
END:VEVENT
BEGIN:VEVENT
DTSTART;TZID=Europe/Zurich:20260527T173000
DTEND;TZID=Europe/Zurich:20260527T193000
DTSTAMP:20260423T135544
CREATED:20260214T143400Z
LAST-MODIFIED:20260214T152908Z
UID:1774-1779903000-1779910200@qtt.ch
SUMMARY:KUBB
DESCRIPTION:Für Anfänger:innen und Kenner:innen\nnur bei trockenem Wetter
URL:https://qtt.ch/event/kubb-2/
CATEGORIES:Jahresprogramm
ATTACH;FMTTYPE=image/png:https://qtt.ch/wp-content/uploads/2024/03/kubb.png
END:VEVENT
BEGIN:VEVENT
DTSTART;TZID=Europe/Zurich:20260527T193000
DTEND;TZID=Europe/Zurich:20260527T210000
DTSTAMP:20260423T135544
CREATED:20260214T144137Z
LAST-MODIFIED:20260214T144148Z
UID:1784-1779910200-1779915600@qtt.ch
SUMMARY:Mitgliederversammlung Trägerverein
DESCRIPTION:Mitgliederversammlung im Restaurant TC Rotweiss
URL:https://qtt.ch/event/mitgliederversammlung-traegerverein/
LOCATION:TC Rotweiss\, Thunplatz 15\, Bern\, BE\, 3006\, Switzerland
CATEGORIES:Jahresprogramm
ATTACH;FMTTYPE=image/jpeg:https://qtt.ch/wp-content/uploads/2018/10/mitgliederversammlung.jpg
END:VEVENT
BEGIN:VEVENT
DTSTART;TZID=Europe/Zurich:20260618T173000
DTEND;TZID=Europe/Zurich:20260618T193000
DTSTAMP:20260423T135544
CREATED:20260214T143455Z
LAST-MODIFIED:20260214T152843Z
UID:1776-1781803800-1781811000@qtt.ch
SUMMARY:KUBB
DESCRIPTION:Für Anfänger:innen und Kenner:innen\nnur bei trockenem Wetter
URL:https://qtt.ch/event/kubb-3/
CATEGORIES:Jahresprogramm
ATTACH;FMTTYPE=image/png:https://qtt.ch/wp-content/uploads/2024/03/kubb.png
END:VEVENT
BEGIN:VEVENT
DTSTART;TZID=Europe/Zurich:20260722T173000
DTEND;TZID=Europe/Zurich:20260722T193000
DTSTAMP:20260423T135544
CREATED:20260214T143547Z
LAST-MODIFIED:20260214T152817Z
UID:1778-1784741400-1784748600@qtt.ch
SUMMARY:KUBB
DESCRIPTION:Für Anfänger:innen und Kenner:innen\nnur bei trockenem Wetter
URL:https://qtt.ch/event/kubb-4/
LOCATION:QTT Platz
CATEGORIES:Jahresprogramm
ATTACH;FMTTYPE=image/png:https://qtt.ch/wp-content/uploads/2024/03/kubb.png
END:VEVENT
BEGIN:VEVENT
DTSTART;TZID=Europe/Zurich:20260815T100000
DTEND;TZID=Europe/Zurich:20260815T160000
DTSTAMP:20260423T135544
CREATED:20260214T144447Z
LAST-MODIFIED:20260214T144447Z
UID:1788-1786788000-1786809600@qtt.ch
SUMMARY:Bring- und Holtag
DESCRIPTION:Gratis Bringen – Gratis holen
URL:https://qtt.ch/event/bring-und-holtag/
LOCATION:QTT Platz
CATEGORIES:Jahresprogramm
ATTACH;FMTTYPE=image/png:https://qtt.ch/wp-content/uploads/2026/02/GB-18-24-Bring-und-Holtag.png
END:VEVENT
BEGIN:VEVENT
DTSTART;TZID=Europe/Zurich:20260815T170000
DTEND;TZID=Europe/Zurich:20260815T230000
DTSTAMP:20260423T135544
CREATED:20260214T144640Z
LAST-MODIFIED:20260214T144640Z
UID:1791-1786813200-1786834800@qtt.ch
SUMMARY:Grillfest und Trash-Zwirbele
DESCRIPTION:Bitte Grillgut und Beitrag fürs Salat- und Dessertbuffet mitbringen
URL:https://qtt.ch/event/grillfest-und-trash-zwirbele/
LOCATION:QTT Platz
CATEGORIES:Jahresprogramm
ATTACH;FMTTYPE=image/jpeg:https://qtt.ch/wp-content/uploads/2018/10/Autofreier_Sonntag_03.jpg
END:VEVENT
BEGIN:VEVENT
DTSTART;TZID=Europe/Zurich:20260819T173000
DTEND;TZID=Europe/Zurich:20260819T193000
DTSTAMP:20260423T135544
CREATED:20260214T143643Z
LAST-MODIFIED:20260214T152747Z
UID:1780-1787160600-1787167800@qtt.ch
SUMMARY:KUBB
DESCRIPTION:Für Anfänger:innen und Kenner:innen\nnur bei trockenem Wetter
URL:https://qtt.ch/event/kubb-5/
LOCATION:QTT Platz
CATEGORIES:Jahresprogramm
ATTACH;FMTTYPE=image/png:https://qtt.ch/wp-content/uploads/2024/03/kubb.png
END:VEVENT
BEGIN:VEVENT
DTSTART;TZID=Europe/Zurich:20261011T140000
DTEND;TZID=Europe/Zurich:20261011T170000
DTSTAMP:20260423T135544
CREATED:20260214T144803Z
LAST-MODIFIED:20260214T152617Z
UID:1793-1791727200-1791738000@qtt.ch
SUMMARY:Lotto am Thunplatz
DESCRIPTION:Im Restaurant des TC Rotweiss
URL:https://qtt.ch/event/lotto-am-thunplatz/
LOCATION:TC Rotweiss\, Thunplatz 15\, Bern\, BE\, 3006\, Switzerland
CATEGORIES:Jahresprogramm
ATTACH;FMTTYPE=image/jpeg:https://qtt.ch/wp-content/uploads/2018/12/Lotto.jpg
END:VEVENT
BEGIN:VEVENT
DTSTART;TZID=Europe/Zurich:20261111T180000
DTEND;TZID=Europe/Zurich:20261111T190000
DTSTAMP:20260423T135544
CREATED:20260214T145612Z
LAST-MODIFIED:20260214T145613Z
UID:1795-1794420000-1794423600@qtt.ch
SUMMARY:Laternenumzug
DESCRIPTION:Waldspaziergang mit mitgebrachten Laternen und Lichtern
URL:https://qtt.ch/event/laternenumzug/
LOCATION:QTT Platz
CATEGORIES:Jahresprogramm
ATTACH;FMTTYPE=image/jpeg:https://qtt.ch/wp-content/uploads/2023/09/Raebe15_002.jpg
END:VEVENT
BEGIN:VEVENT
DTSTART;TZID=Europe/Zurich:20261206T180000
DTEND;TZID=Europe/Zurich:20261206T183000
DTSTAMP:20260423T135544
CREATED:20260214T145745Z
LAST-MODIFIED:20260214T151411Z
UID:1797-1796580000-1796581800@qtt.ch
SUMMARY:Chlouse Aabe
DESCRIPTION:Der Chlous kommt an den Thunplatz
URL:https://qtt.ch/event/chlouse-aabe/
LOCATION:QTT Platz
CATEGORIES:Jahresprogramm
ATTACH;FMTTYPE=image/jpeg:https://qtt.ch/wp-content/uploads/2018/11/Chlous.jpg
END:VEVENT
END:VCALENDAR